BEGIN:VCALENDAR
VERSION:2.0
PRODID:-//Stable Friendships Foundation - ECPv6.15.20//NONSGML v1.0//EN
CALSCALE:GREGORIAN
METHOD:PUBLISH
X-WR-CALNAME:Stable Friendships Foundation
X-ORIGINAL-URL:https://stablefriendshipsfoundation.org
X-WR-CALDESC:Events for Stable Friendships Foundation
REFRESH-INTERVAL;VALUE=DURATION:PT1H
X-Robots-Tag:noindex
X-PUBLISHED-TTL:PT1H
BEGIN:VTIMEZONE
TZID:UTC
BEGIN:STANDARD
TZOFFSETFROM:+0000
TZOFFSETTO:+0000
TZNAME:UTC
DTSTART:20250101T000000
END:STANDARD
END:VTIMEZONE
BEGIN:VEVENT
DTSTART;TZID=UTC:20260318T063000
DTEND;TZID=UTC:20260318T073000
DTSTAMP:20260424T161840
CREATED:20200428T135723Z
LAST-MODIFIED:20251110T210425Z
UID:1210-1773815400-1773819000@stablefriendshipsfoundation.org
SUMMARY:Hippotherapy: Speech Edition | From Hips to Lips\, Jessica Falco
DESCRIPTION:Ask the Therapist – Hippotherapy: Speech Edition | From Hips to Lips\, Jessica Falco \nWhat starts at the hips ends at the lips. Explore how equine movement supports speech and language development by engaging the body first—helping children build breath control\, posture\, and confident communication. \nRegister: https://us06web.zoom.us/meeting/register/I5HULz1HQf-jxnbFQzNJrA
URL:https://stablefriendshipsfoundation.org/event/hippotherapy-speech-edition-from-hips-to-lips-jessica-falco/
END:VEVENT
END:VCALENDAR