BEGIN:VCALENDAR
VERSION:2.0
PRODID:-//Stable Friendships Foundation - ECPv6.15.20//NONSGML v1.0//EN
CALSCALE:GREGORIAN
METHOD:PUBLISH
X-WR-CALNAME:Stable Friendships Foundation
X-ORIGINAL-URL:https://stablefriendshipsfoundation.org
X-WR-CALDESC:Events for Stable Friendships Foundation
REFRESH-INTERVAL;VALUE=DURATION:PT1H
X-Robots-Tag:noindex
X-PUBLISHED-TTL:PT1H
BEGIN:VTIMEZONE
TZID:UTC
BEGIN:STANDARD
TZOFFSETFROM:+0000
TZOFFSETTO:+0000
TZNAME:UTC
DTSTART:20250101T000000
END:STANDARD
END:VTIMEZONE
BEGIN:VEVENT
DTSTART;TZID=UTC:20260226T063000
DTEND;TZID=UTC:20260226T073000
DTSTAMP:20260424T174110
CREATED:20200428T140044Z
LAST-MODIFIED:20251110T210542Z
UID:1213-1772087400-1772091000@stablefriendshipsfoundation.org
SUMMARY:Nature-Based Therapy | Growth\, Regulation\, and Confidence Outdoors
DESCRIPTION:Ask the Therapist – Nature-Based Therapy | Growth\, Regulation\, and Confidence Outdoors.  Laura Merino \nLearn how therapy comes alive outdoors. Our nature-based approach weaves traditional therapeutic goals into play and purposeful movement in nature—helping children build balance\, mindfulness\, and regulation that last beyond the session. \nRegister: https://us06web.zoom.us/meeting/register/jL0bAWAyT-m1kBwMWgIbHQ
URL:https://stablefriendshipsfoundation.org/event/nature-based-therapy-growth-regulation-and-confidence-outdoors/
END:VEVENT
END:VCALENDAR