BEGIN:VCALENDAR
VERSION:2.0
PRODID:-//Stable Friendships Foundation - ECPv6.15.20//NONSGML v1.0//EN
CALSCALE:GREGORIAN
METHOD:PUBLISH
X-WR-CALNAME:Stable Friendships Foundation
X-ORIGINAL-URL:https://stablefriendshipsfoundation.org
X-WR-CALDESC:Events for Stable Friendships Foundation
REFRESH-INTERVAL;VALUE=DURATION:PT1H
X-Robots-Tag:noindex
X-PUBLISHED-TTL:PT1H
BEGIN:VTIMEZONE
TZID:UTC
BEGIN:STANDARD
TZOFFSETFROM:+0000
TZOFFSETTO:+0000
TZNAME:UTC
DTSTART:20250101T000000
END:STANDARD
END:VTIMEZONE
BEGIN:VEVENT
DTSTART;TZID=UTC:20260422T063000
DTEND;TZID=UTC:20260422T073000
DTSTAMP:20260424T203054
CREATED:20200504T181610Z
LAST-MODIFIED:20251110T210056Z
UID:1743-1776839400-1776843000@stablefriendshipsfoundation.org
SUMMARY:Hippotherapy: OT Edition | Building Everyday Skills\,  Laura Merino
DESCRIPTION:Ask the Therapist – Hippotherapy: OT Edition | Building Everyday Skills\,  Laura Merino \nDiscover how the movement of the horse enhances the skills children need for daily life. Learn how occupational therapists use equine movement to support sensory integration\, attention\, and coordination while fostering calm confidence. \nRegister: https://us06web.zoom.us/meeting/register/jMys4nx-RZCb_6Iiu7s0TA
URL:https://stablefriendshipsfoundation.org/event/hippotherapy-ot-edition-building-everyday-skills-laura-merino/
CATEGORIES:Ask the Therapist
END:VEVENT
BEGIN:VEVENT
DTSTART;TZID=UTC:20260521T063000
DTEND;TZID=UTC:20260521T073000
DTSTAMP:20260424T203054
CREATED:20200716T143837Z
LAST-MODIFIED:20251110T210304Z
UID:8860-1779345000-1779348600@stablefriendshipsfoundation.org
SUMMARY:Hippotherapy: PT Edition | Strength\, Balance\, and Motion\, Melissa Jarzynski
DESCRIPTION:Ask the Therapist – Hippotherapy: PT Edition | Strength\, Balance\, and Motion\, Melissa Jarzynski \nSee how partnering with the horse’s movement transforms traditional physical therapy. Each session helps strengthen core muscles\, improve posture\, and build smoother\, more confident movement in a fun\, engaging way. \nRegister: https://us06web.zoom.us/meeting/register/jur5mgc3RhuO2_14ungSYA
URL:https://stablefriendshipsfoundation.org/event/hippotherapy-pt-edition-strength-balance-and-motion-melissa-jarzynski/
END:VEVENT
END:VCALENDAR