BEGIN:VCALENDAR
VERSION:2.0
PRODID:-//Stable Friendships Foundation - ECPv6.15.20//NONSGML v1.0//EN
CALSCALE:GREGORIAN
METHOD:PUBLISH
X-WR-CALNAME:Stable Friendships Foundation
X-ORIGINAL-URL:https://stablefriendshipsfoundation.org
X-WR-CALDESC:Events for Stable Friendships Foundation
REFRESH-INTERVAL;VALUE=DURATION:PT1H
X-Robots-Tag:noindex
X-PUBLISHED-TTL:PT1H
BEGIN:VTIMEZONE
TZID:UTC
BEGIN:STANDARD
TZOFFSETFROM:+0000
TZOFFSETTO:+0000
TZNAME:UTC
DTSTART:20250101T000000
END:STANDARD
END:VTIMEZONE
BEGIN:VEVENT
DTSTART;TZID=UTC:20260114T063000
DTEND;TZID=UTC:20260114T073000
DTSTAMP:20260424T231902
CREATED:20200428T140523Z
LAST-MODIFIED:20251110T210622Z
UID:1215-1768372200-1768375800@stablefriendshipsfoundation.org
SUMMARY:What Is Hippotherapy?
DESCRIPTION:Ask the Therapist – What Is Hippotherapy | Movement\, Connection\, and Growth\, Melissa Jarzynski \nExperience how therapy transforms when movement meets connection. In hippotherapy\, licensed therapists use the horse’s rhythmic gait to build strength\, balance\, coordination\, and confidence in ways that feel natural and joyful. \nRegister for the zoom webinar: https://us06web.zoom.us/meeting/register/8SX-6tjJRoyoqsehrqo34w
URL:https://stablefriendshipsfoundation.org/event/what-is-hippotherapy/
END:VEVENT
END:VCALENDAR